BEGIN:VCALENDAR
VERSION:2.0
PRODID:-//Living Streams - ECPv6.15.20//NONSGML v1.0//EN
CALSCALE:GREGORIAN
METHOD:PUBLISH
X-ORIGINAL-URL:https://lstreams.com
X-WR-CALDESC:Events for Living Streams
REFRESH-INTERVAL;VALUE=DURATION:PT1H
X-Robots-Tag:noindex
X-PUBLISHED-TTL:PT1H
BEGIN:VTIMEZONE
TZID:America/Chicago
BEGIN:DAYLIGHT
TZOFFSETFROM:-0600
TZOFFSETTO:-0500
TZNAME:CDT
DTSTART:20250309T080000
END:DAYLIGHT
BEGIN:STANDARD
TZOFFSETFROM:-0500
TZOFFSETTO:-0600
TZNAME:CST
DTSTART:20251102T070000
END:STANDARD
BEGIN:DAYLIGHT
TZOFFSETFROM:-0600
TZOFFSETTO:-0500
TZNAME:CDT
DTSTART:20260308T080000
END:DAYLIGHT
BEGIN:STANDARD
TZOFFSETFROM:-0500
TZOFFSETTO:-0600
TZNAME:CST
DTSTART:20261101T070000
END:STANDARD
BEGIN:DAYLIGHT
TZOFFSETFROM:-0600
TZOFFSETTO:-0500
TZNAME:CDT
DTSTART:20270314T080000
END:DAYLIGHT
BEGIN:STANDARD
TZOFFSETFROM:-0500
TZOFFSETTO:-0600
TZNAME:CST
DTSTART:20271107T070000
END:STANDARD
END:VTIMEZONE
BEGIN:VEVENT
DTSTART;TZID=America/Chicago:20260425T090000
DTEND;TZID=America/Chicago:20260425T150000
DTSTAMP:20260423T122836
CREATED:20250830T215550Z
LAST-MODIFIED:20250830T215550Z
UID:10002398-1777107600-1777129200@lstreams.com
SUMMARY:Vender Event - Spring Market
DESCRIPTION:Mark your calendars for our SPRING MARKET. We are showcasing some of our finest local artisans selling their top-quality products. More details to follow.
URL:https://lstreams.com/eve/vender-event-spring-market-2/
LOCATION:Watershed Cafe and  Books\, 19852 Lagrange Road\, Mokena\, IL\, 60448\, United States
CATEGORIES:Community,Live,Markets
ATTACH;FMTTYPE=image/webp:https://lstreams.com/wp-content/uploads/2025/08/spring-market-mini-logo-1.webp
ORGANIZER;CN="Watershed Cafe & Books":MAILTO:info@watershedcafe.com
END:VEVENT
BEGIN:VEVENT
DTSTART;TZID=America/Chicago:20260426T100000
DTEND;TZID=America/Chicago:20260426T100000
DTSTAMP:20260423T122836
CREATED:20250828T083019Z
LAST-MODIFIED:20260419T095644Z
UID:10002540-1777197600-1777197600@lstreams.com
SUMMARY:Sunday Morning Service 10 AM
DESCRIPTION:Join us each Sunday @ 10 am for our weekly worship service and studying the Bible. First Sunday of the Month we partake of Communion. Dress is casual\, Children’s church available for ages 11 and under. Teaching God’s Word Verse by Verse.
URL:https://lstreams.com/eve/sunday-morning-service-10-am/2026-04-26/
LOCATION:Living Streams Christian Fellowship\, 19852 Lagrange Road\, Mokena\, IL\, 60448\, United States
CATEGORIES:Bible Study,Children’s Events,Church Service,Sermon,Worship
ATTACH;FMTTYPE=image/jpeg:https://lstreams.com/wp-content/uploads/2026/04/rooted.jpg
ORGANIZER;CN="Living Streams":MAILTO:Info@Lstreams.com
END:VEVENT
END:VCALENDAR