BEGIN:VCALENDAR
VERSION:2.0
PRODID:-//Living Streams - ECPv6.15.20//NONSGML v1.0//EN
CALSCALE:GREGORIAN
METHOD:PUBLISH
X-ORIGINAL-URL:https://lstreams.com
X-WR-CALDESC:Events for Living Streams
REFRESH-INTERVAL;VALUE=DURATION:PT1H
X-Robots-Tag:noindex
X-PUBLISHED-TTL:PT1H
BEGIN:VTIMEZONE
TZID:America/Chicago
BEGIN:DAYLIGHT
TZOFFSETFROM:-0600
TZOFFSETTO:-0500
TZNAME:CDT
DTSTART:20250309T080000
END:DAYLIGHT
BEGIN:STANDARD
TZOFFSETFROM:-0500
TZOFFSETTO:-0600
TZNAME:CST
DTSTART:20251102T070000
END:STANDARD
BEGIN:DAYLIGHT
TZOFFSETFROM:-0600
TZOFFSETTO:-0500
TZNAME:CDT
DTSTART:20260308T080000
END:DAYLIGHT
BEGIN:STANDARD
TZOFFSETFROM:-0500
TZOFFSETTO:-0600
TZNAME:CST
DTSTART:20261101T070000
END:STANDARD
BEGIN:DAYLIGHT
TZOFFSETFROM:-0600
TZOFFSETTO:-0500
TZNAME:CDT
DTSTART:20270314T080000
END:DAYLIGHT
BEGIN:STANDARD
TZOFFSETFROM:-0500
TZOFFSETTO:-0600
TZNAME:CST
DTSTART:20271107T070000
END:STANDARD
END:VTIMEZONE
BEGIN:VEVENT
DTSTART;TZID=America/Chicago:20260418T073000
DTEND;TZID=America/Chicago:20260418T090000
DTSTAMP:20260423T143720
CREATED:20250825T201001Z
LAST-MODIFIED:20250830T201509Z
UID:10002356-1776497400-1776502800@lstreams.com
SUMMARY:Bible Class Hour 15: The Gospels (Matthew\, Mark\, Luke\, John)
DESCRIPTION:Learn the Bible in 24 Hours \nHour 15 – Life\, ministry\, death\, and resurrection of Jesus Christ. \n“As iron sharpens iron\, so a man sharpens the countenance of a friend.” (proverbs 27:17) \n📖 You’re Invited: Learn the Bible in 24 Hours a video series. Starting Saturday\, September 6\, 2025 – 7:30 am-9:00am \n✨ Curious about the grand sweep of Scripture?  Do you want a clearer grasp of how Genesis connects to Revelation? Join us for Learn the Bible in 24 Hours—a fast-paced\, engaging series designed to equip you with a foundational understanding of the entire Bible. \nIn just 24 one-hour sessions\, you will:  Journey from Creation to the Cross to the New Creation\, Explore key historical\, theological\, and prophetic themes\, Understand how each book of the Bible fits into God’s bigger story and discuss real-world applications in a supportive group setting. \nWhether you’re new to the Bible or looking to review or deepen your perspective\, this series will give you a panoramic view—with clarity\, context\, and spiritual insight cover to cover. In one year\, you will cover the entire Bible. \nMeeting at the Watershed Cafe on the 1st and 3rd Saturday of each month.
URL:https://lstreams.com/eve/hour-15-the-gospels-matthew-mark-luke-john/
LOCATION:Watershed Cafe and  Books\, 19852 Lagrange Road\, Mokena\, IL\, 60448\, United States
CATEGORIES:Bible Classes,Bible Study,Men,Video Series
ATTACH;FMTTYPE=image/jpeg:https://lstreams.com/wp-content/uploads/2025/08/960-x-540.jpg
ORGANIZER;CN="Watershed Cafe & Books":MAILTO:info@watershedcafe.com
END:VEVENT
BEGIN:VEVENT
DTSTART;TZID=America/Chicago:20260419T100000
DTEND;TZID=America/Chicago:20260419T100000
DTSTAMP:20260423T143720
CREATED:20250828T083019Z
LAST-MODIFIED:20260419T095644Z
UID:10002539-1776592800-1776592800@lstreams.com
SUMMARY:Sunday Morning Service 10 AM
DESCRIPTION:Join us each Sunday @ 10 am for our weekly worship service and studying the Bible. First Sunday of the Month we partake of Communion. Dress is casual\, Children’s church available for ages 11 and under. Teaching God’s Word Verse by Verse.
URL:https://lstreams.com/eve/sunday-morning-service-10-am/2026-04-19/
LOCATION:Living Streams Christian Fellowship\, 19852 Lagrange Road\, Mokena\, IL\, 60448\, United States
CATEGORIES:Bible Study,Children’s Events,Church Service,Sermon,Worship
ATTACH;FMTTYPE=image/jpeg:https://lstreams.com/wp-content/uploads/2026/04/rooted.jpg
ORGANIZER;CN="Living Streams":MAILTO:Info@Lstreams.com
END:VEVENT
BEGIN:VEVENT
DTSTART;TZID=America/Chicago:20260419T140000
DTEND;TZID=America/Chicago:20260419T163000
DTSTAMP:20260423T143720
CREATED:20260414T140028Z
LAST-MODIFIED:20260414T141203Z
UID:10003377-1776607200-1776616200@lstreams.com
SUMMARY:Send it for Jesus Outreach Tour 2026 - Hickory Hills IL
DESCRIPTION:Hickory Hills Skatepark \nSend it for Jesus Outreach tour is our annual once a month stop at local skateparks. We set up a tent\, throw a bbq for the skate community\, clean up the skatepark area\, have a Bible devotional with the group\, and  have a fun skate sesh together. We look to have many faith building conversations and build relationships with the skate community each stop on the tour. These are held on Sunday afternoons from 2-4:30pm and all are welcome.
URL:https://lstreams.com/eve/send-it-for-jesus-outreach-tour-2026-hickory-hills-il/
LOCATION:Testimony Skate Ministry\, 19852 Lagrange Road\, Mokena\, IL\, 60448\, United States
CATEGORIES:Church Event,Community,Skate,Sports,Youth
ATTACH;FMTTYPE=image/png:https://lstreams.com/wp-content/uploads/2026/04/Send-it-for-Jesus-Tour-w_dates-16x-9-scaled.png
ORGANIZER;CN="Testimony Skate Ministry":MAILTO:Testimonyskateministry@gmail.com
END:VEVENT
END:VCALENDAR