BEGIN:VCALENDAR
VERSION:2.0
PRODID:-//Living Streams - ECPv6.15.20//NONSGML v1.0//EN
CALSCALE:GREGORIAN
METHOD:PUBLISH
X-ORIGINAL-URL:https://lstreams.com
X-WR-CALDESC:Events for Living Streams
REFRESH-INTERVAL;VALUE=DURATION:PT1H
X-Robots-Tag:noindex
X-PUBLISHED-TTL:PT1H
BEGIN:VTIMEZONE
TZID:America/Chicago
BEGIN:DAYLIGHT
TZOFFSETFROM:-0600
TZOFFSETTO:-0500
TZNAME:CDT
DTSTART:20250309T080000
END:DAYLIGHT
BEGIN:STANDARD
TZOFFSETFROM:-0500
TZOFFSETTO:-0600
TZNAME:CST
DTSTART:20251102T070000
END:STANDARD
BEGIN:DAYLIGHT
TZOFFSETFROM:-0600
TZOFFSETTO:-0500
TZNAME:CDT
DTSTART:20260308T080000
END:DAYLIGHT
BEGIN:STANDARD
TZOFFSETFROM:-0500
TZOFFSETTO:-0600
TZNAME:CST
DTSTART:20261101T070000
END:STANDARD
BEGIN:DAYLIGHT
TZOFFSETFROM:-0600
TZOFFSETTO:-0500
TZNAME:CDT
DTSTART:20270314T080000
END:DAYLIGHT
BEGIN:STANDARD
TZOFFSETFROM:-0500
TZOFFSETTO:-0600
TZNAME:CST
DTSTART:20271107T070000
END:STANDARD
END:VTIMEZONE
BEGIN:VEVENT
DTSTART;TZID=America/Chicago:20260517T140000
DTEND;TZID=America/Chicago:20260517T163000
DTSTAMP:20260423T110718
CREATED:20260414T141531Z
LAST-MODIFIED:20260414T143844Z
UID:10003378-1779026400-1779035400@lstreams.com
SUMMARY:Send it for Jesus Outreach Tour 2026 - Joliet IL - May 17th
DESCRIPTION:Joliet Inwood Skatepark \nSend it for Jesus Outreach tour is our annual once a month stop at local skateparks. We set up a tent\, throw a bbq for the skate community\, clean up the skatepark area\, have a Bible devotional with the group\, and  have a fun skate sesh together. We look to have many faith building conversations and build relationships with the skate community each stop on the tour. These are held on Sunday afternoons from 2-4:30pm and all are welcome.
URL:https://lstreams.com/eve/send-it-for-jesus-outreach-tour-2026-joliet-il-may-17th/
LOCATION:Testimony Skate Ministry\, 19852 Lagrange Road\, Mokena\, IL\, 60448\, United States
CATEGORIES:Church Event,Community,Skate,Sports,Youth
ATTACH;FMTTYPE=image/png:https://lstreams.com/wp-content/uploads/2026/04/Send-it-for-Jesus-Tour-w_dates-16x-9-scaled.png
ORGANIZER;CN="Testimony Skate Ministry":MAILTO:Testimonyskateministry@gmail.com
END:VEVENT
BEGIN:VEVENT
DTSTART;TZID=America/Chicago:20260621T140000
DTEND;TZID=America/Chicago:20260621T163000
DTSTAMP:20260423T110718
CREATED:20260414T141916Z
LAST-MODIFIED:20260414T141916Z
UID:10003379-1782050400-1782059400@lstreams.com
SUMMARY:Send it for Jesus Outreach Tour 2026 - Go Skate Day - Time and Location TBD
DESCRIPTION:Send it for Jesus Outreach tour is our annual once a month stop at local skateparks. We set up a tent\, throw a bbq for the skate community\, clean up the skatepark area\, have a Bible devotional with the group\, and  have a fun skate sesh together. We look to have many faith building conversations and build relationships with the skate community each stop on the tour. These are held on Sunday afternoons from 2-4:30pm and all are welcome.
URL:https://lstreams.com/eve/send-it-for-jesus-outreach-tour-2026-go-skate-day-time-and-location-tbd/
LOCATION:Testimony Skate Ministry\, 19852 Lagrange Road\, Mokena\, IL\, 60448\, United States
CATEGORIES:Church Event,Community,Skate,Sports,Youth
ATTACH;FMTTYPE=image/png:https://lstreams.com/wp-content/uploads/2026/04/Send-it-for-Jesus-Tour-w_dates-16x-9-scaled.png
ORGANIZER;CN="Testimony Skate Ministry":MAILTO:Testimonyskateministry@gmail.com
END:VEVENT
BEGIN:VEVENT
DTSTART;TZID=America/Chicago:20260717T170000
DTEND;TZID=America/Chicago:20260717T200000
DTSTAMP:20260423T110718
CREATED:20260414T142714Z
LAST-MODIFIED:20260414T144706Z
UID:10003380-1784307600-1784318400@lstreams.com
SUMMARY:Send it for Jesus Outreach Tour 2026 - Effingham IL
DESCRIPTION:Effingham IL – Friday 17th 5-8pm Effingham Festival – Skate Demo Street Skate Demo \nSaturday 18th 10am-8pm HamJam – Skate Contest Hendelmeyer Skatepark \nSunday 19th 9am Skate Church at the Skatepark Hendelmeyer Skatepark \nSend it for Jesus Outreach tour is our annual once a month stop at local skateparks. We set up a tent\, throw a bbq for the skate community\, clean up the skatepark area\, have a Bible devotional with the group\, and  have a fun skate sesh together. We look to have many faith building conversations and build relationships with the skate community each stop on the tour. These are held on Sunday afternoons from 2-4:30pm and all are welcome.
URL:https://lstreams.com/eve/send-it-for-jesus-outreach-tour-2026-effingham-il/2026-07-17/
LOCATION:Testimony Skate Ministry\, 19852 Lagrange Road\, Mokena\, IL\, 60448\, United States
CATEGORIES:Church Event,Community,Skate,Sports,Youth
ATTACH;FMTTYPE=image/png:https://lstreams.com/wp-content/uploads/2026/04/Send-it-for-Jesus-Tour-w_dates-16x-9-scaled.png
ORGANIZER;CN="Testimony Skate Ministry":MAILTO:Testimonyskateministry@gmail.com
END:VEVENT
BEGIN:VEVENT
DTSTART;TZID=America/Chicago:20260718T080000
DTEND;TZID=America/Chicago:20260718T200000
DTSTAMP:20260423T110718
CREATED:20260414T142714Z
LAST-MODIFIED:20260414T144706Z
UID:10003384-1784361600-1784404800@lstreams.com
SUMMARY:Send it for Jesus Outreach Tour 2026 - Effingham IL
DESCRIPTION:Effingham IL – Friday 17th 5-8pm Effingham Festival – Skate Demo Street Skate Demo \nSaturday 18th 10am-8pm HamJam – Skate Contest Hendelmeyer Skatepark \nSunday 19th 9am Skate Church at the Skatepark Hendelmeyer Skatepark \nSend it for Jesus Outreach tour is our annual once a month stop at local skateparks. We set up a tent\, throw a bbq for the skate community\, clean up the skatepark area\, have a Bible devotional with the group\, and  have a fun skate sesh together. We look to have many faith building conversations and build relationships with the skate community each stop on the tour. These are held on Sunday afternoons from 2-4:30pm and all are welcome.
URL:https://lstreams.com/eve/send-it-for-jesus-outreach-tour-2026-effingham-il/2026-07-18/
LOCATION:Testimony Skate Ministry\, 19852 Lagrange Road\, Mokena\, IL\, 60448\, United States
CATEGORIES:Church Event,Community,Skate,Sports,Youth
ATTACH;FMTTYPE=image/png:https://lstreams.com/wp-content/uploads/2026/04/Send-it-for-Jesus-Tour-w_dates-16x-9-scaled.png
ORGANIZER;CN="Testimony Skate Ministry":MAILTO:Testimonyskateministry@gmail.com
END:VEVENT
BEGIN:VEVENT
DTSTART;TZID=America/Chicago:20260719T090000
DTEND;TZID=America/Chicago:20260719T090000
DTSTAMP:20260423T110718
CREATED:20260414T142714Z
LAST-MODIFIED:20260414T144706Z
UID:10003385-1784451600-1784451600@lstreams.com
SUMMARY:Send it for Jesus Outreach Tour 2026 - Effingham IL
DESCRIPTION:Effingham IL – Friday 17th 5-8pm Effingham Festival – Skate Demo Street Skate Demo \nSaturday 18th 10am-8pm HamJam – Skate Contest Hendelmeyer Skatepark \nSunday 19th 9am Skate Church at the Skatepark Hendelmeyer Skatepark \nSend it for Jesus Outreach tour is our annual once a month stop at local skateparks. We set up a tent\, throw a bbq for the skate community\, clean up the skatepark area\, have a Bible devotional with the group\, and  have a fun skate sesh together. We look to have many faith building conversations and build relationships with the skate community each stop on the tour. These are held on Sunday afternoons from 2-4:30pm and all are welcome.
URL:https://lstreams.com/eve/send-it-for-jesus-outreach-tour-2026-effingham-il/2026-07-19/
LOCATION:Testimony Skate Ministry\, 19852 Lagrange Road\, Mokena\, IL\, 60448\, United States
CATEGORIES:Church Event,Community,Skate,Sports,Youth
ATTACH;FMTTYPE=image/png:https://lstreams.com/wp-content/uploads/2026/04/Send-it-for-Jesus-Tour-w_dates-16x-9-scaled.png
ORGANIZER;CN="Testimony Skate Ministry":MAILTO:Testimonyskateministry@gmail.com
END:VEVENT
BEGIN:VEVENT
DTSTART;TZID=America/Chicago:20260816T140000
DTEND;TZID=America/Chicago:20260816T163000
DTSTAMP:20260423T110718
CREATED:20260414T143018Z
LAST-MODIFIED:20260414T143703Z
UID:10003381-1786888800-1786897800@lstreams.com
SUMMARY:Send it for Jesus Outreach Tour 2026 - St John IN - Sunday August 16th
DESCRIPTION:Gates of St John Skatepark \nSend it for Jesus Outreach tour is our annual once a month stop at local skateparks. We set up a tent\, throw a bbq for the skate community\, clean up the skatepark area\, have a Bible devotional with the group\, and  have a fun skate sesh together. We look to have many faith building conversations and build relationships with the skate community each stop on the tour. These are held on Sunday afternoons from 2-4:30pm and all are welcome.
URL:https://lstreams.com/eve/send-it-for-jesus-outreach-tour-2026-st-john-in-sunday-august-16th/
LOCATION:Testimony Skate Ministry\, 19852 Lagrange Road\, Mokena\, IL\, 60448\, United States
CATEGORIES:Church Event,Community,Skate,Sports,Youth
ATTACH;FMTTYPE=image/png:https://lstreams.com/wp-content/uploads/2026/04/Send-it-for-Jesus-Tour-w_dates-16x-9-scaled.png
ORGANIZER;CN="Testimony Skate Ministry":MAILTO:Testimonyskateministry@gmail.com
END:VEVENT
BEGIN:VEVENT
DTSTART;TZID=America/Chicago:20260920T140000
DTEND;TZID=America/Chicago:20260920T163000
DTSTAMP:20260423T110718
CREATED:20260414T143237Z
LAST-MODIFIED:20260414T143237Z
UID:10003382-1789912800-1789921800@lstreams.com
SUMMARY:Send it for Jesus Outreach Tour 2026 - Plainfield IL - Sunday September 20th
DESCRIPTION:Plainfield Skatepark \nSend it for Jesus Outreach tour is our annual once a month stop at local skateparks. We set up a tent\, throw a bbq for the skate community\, clean up the skatepark area\, have a Bible devotional with the group\, and  have a fun skate sesh together. We look to have many faith building conversations and build relationships with the skate community each stop on the tour. These are held on Sunday afternoons from 2-4:30pm and all are welcome.
URL:https://lstreams.com/eve/send-it-for-jesus-outreach-tour-2026-plainfield-il-sunday-september-20th/
LOCATION:Testimony Skate Ministry\, 19852 Lagrange Road\, Mokena\, IL\, 60448\, United States
CATEGORIES:Church Event,Community,Skate,Sports,Youth
ATTACH;FMTTYPE=image/png:https://lstreams.com/wp-content/uploads/2026/04/Send-it-for-Jesus-Tour-w_dates-16x-9-scaled.png
ORGANIZER;CN="Testimony Skate Ministry":MAILTO:Testimonyskateministry@gmail.com
END:VEVENT
BEGIN:VEVENT
DTSTART;TZID=America/Chicago:20261018T140000
DTEND;TZID=America/Chicago:20261018T163000
DTSTAMP:20260423T110718
CREATED:20260414T143427Z
LAST-MODIFIED:20260416T204443Z
UID:10003383-1792332000-1792341000@lstreams.com
SUMMARY:Send it for Jesus Outreach Tour 2026 - Burbank IL - Sunday October 18th
DESCRIPTION:Burbank Skatepark Map Link \nSend it for Jesus Outreach tour is our annual once a month stop at local skateparks. We set up a tent\, throw a bbq for the skate community\, clean up the skatepark area\, have a Bible devotional with the group\, and have a fun skate sesh together. We look to have many faith building conversations and build relationships with the skate community each stop on the tour. These are held on Sunday afternoons from 2-4:30pm and all are welcome.
URL:https://lstreams.com/eve/send-it-for-jesus-outreach-tour-2026-burbank-il-sunday-october-18th/
LOCATION:Testimony Skate Ministry\, 19852 Lagrange Road\, Mokena\, IL\, 60448\, United States
CATEGORIES:Church Event,Community,Skate,Sports,Youth
ATTACH;FMTTYPE=image/png:https://lstreams.com/wp-content/uploads/2026/04/Send-it-for-Jesus-Tour-w_dates-16x-9-scaled.png
ORGANIZER;CN="Testimony Skate Ministry":MAILTO:Testimonyskateministry@gmail.com
END:VEVENT
END:VCALENDAR