BEGIN:VCALENDAR
VERSION:2.0
PRODID:-//Living Streams - ECPv6.15.20//NONSGML v1.0//EN
CALSCALE:GREGORIAN
METHOD:PUBLISH
X-WR-CALNAME:Living Streams
X-ORIGINAL-URL:https://lstreams.com
X-WR-CALDESC:Events for Living Streams
REFRESH-INTERVAL;VALUE=DURATION:PT1H
X-Robots-Tag:noindex
X-PUBLISHED-TTL:PT1H
BEGIN:VTIMEZONE
TZID:America/Chicago
BEGIN:DAYLIGHT
TZOFFSETFROM:-0600
TZOFFSETTO:-0500
TZNAME:CDT
DTSTART:20250309T080000
END:DAYLIGHT
BEGIN:STANDARD
TZOFFSETFROM:-0500
TZOFFSETTO:-0600
TZNAME:CST
DTSTART:20251102T070000
END:STANDARD
BEGIN:DAYLIGHT
TZOFFSETFROM:-0600
TZOFFSETTO:-0500
TZNAME:CDT
DTSTART:20260308T080000
END:DAYLIGHT
BEGIN:STANDARD
TZOFFSETFROM:-0500
TZOFFSETTO:-0600
TZNAME:CST
DTSTART:20261101T070000
END:STANDARD
BEGIN:DAYLIGHT
TZOFFSETFROM:-0600
TZOFFSETTO:-0500
TZNAME:CDT
DTSTART:20270314T080000
END:DAYLIGHT
BEGIN:STANDARD
TZOFFSETFROM:-0500
TZOFFSETTO:-0600
TZNAME:CST
DTSTART:20271107T070000
END:STANDARD
END:VTIMEZONE
BEGIN:VEVENT
DTSTART;TZID=America/Chicago:20260509T080000
DTEND;TZID=America/Chicago:20260509T080000
DTSTAMP:20260423T151411
CREATED:20251006T123107Z
LAST-MODIFIED:20260419T094550Z
UID:10003314-1778313600-1778313600@lstreams.com
SUMMARY:Kingdom\, Power and Glory - 	Faith\, The Means of God's Power
DESCRIPTION:Chuck and Nancy Missler – Video Series \nScripture tells us we are to prepare ourselves for Christ’s soon return. \n\nWhat exactly does this mean?\nWhat’s at stake?\nWhat if we aren’t prepared?\n\nBeing ready\, fit\, and PREPARED will dramatically affect our ROLE\, our POSITION\, and our PLACE OF RESPONSIBILITY in the future millennial kingdom. \nIn this study\, Nancy & Chuck Missler share not only the Scriptural importance of WHY we need to be prepared\, but also WHAT WE NEED TO DO to be prepared.
URL:https://lstreams.com/eve/kingdom-power-and-glory-faith-the-means-of-gods-power/
LOCATION:Living Streams Christian Fellowship\, 19852 Lagrange Road\, Mokena\, IL\, 60448\, United States
CATEGORIES:Women's
ATTACH;FMTTYPE=image/jpeg:https://lstreams.com/wp-content/uploads/2025/10/51W9TPapCkL._SL1350___60834.jpg
ORGANIZER;CN="Living Streams":MAILTO:Info@Lstreams.com
END:VEVENT
BEGIN:VEVENT
DTSTART;TZID=America/Chicago:20260530T080000
DTEND;TZID=America/Chicago:20260530T080000
DTSTAMP:20260423T151411
CREATED:20251006T123220Z
LAST-MODIFIED:20260419T094334Z
UID:10003315-1780128000-1780128000@lstreams.com
SUMMARY:Kingdom\, Power and Glory - What Is An Overcomer
DESCRIPTION:Chuck and Nancy Missler – Video Series \nScripture tells us we are to prepare ourselves for Christ’s soon return. \n\nWhat exactly does this mean?\nWhat’s at stake?\nWhat if we aren’t prepared?\n\nBeing ready\, fit\, and PREPARED will dramatically affect our ROLE\, our POSITION\, and our PLACE OF RESPONSIBILITY in the future millennial kingdom. \nIn this study\, Nancy & Chuck Missler share not only the Scriptural importance of WHY we need to be prepared\, but also WHAT WE NEED TO DO to be prepared.
URL:https://lstreams.com/eve/kingdom-power-and-glory-what-is-an-overcomer/
LOCATION:Living Streams Christian Fellowship\, 19852 Lagrange Road\, Mokena\, IL\, 60448\, United States
CATEGORIES:Women's
ATTACH;FMTTYPE=image/jpeg:https://lstreams.com/wp-content/uploads/2025/10/51W9TPapCkL._SL1350___60834.jpg
ORGANIZER;CN="Living Streams":MAILTO:Info@Lstreams.com
END:VEVENT
BEGIN:VEVENT
DTSTART;TZID=America/Chicago:20260530T080000
DTEND;TZID=America/Chicago:20260530T080000
DTSTAMP:20260423T151411
CREATED:20251006T123313Z
LAST-MODIFIED:20260419T094250Z
UID:10003316-1780128000-1780128000@lstreams.com
SUMMARY:Kingdom\, Power and Glory - Overcoming The Enemy
DESCRIPTION:Chuck and Nancy Missler – Video Series \nScripture tells us we are to prepare ourselves for Christ’s soon return. \n\nWhat exactly does this mean?\nWhat’s at stake?\nWhat if we aren’t prepared?\n\nBeing ready\, fit\, and PREPARED will dramatically affect our ROLE\, our POSITION\, and our PLACE OF RESPONSIBILITY in the future millennial kingdom. \nIn this study\, Nancy & Chuck Missler share not only the Scriptural importance of WHY we need to be prepared\, but also WHAT WE NEED TO DO to be prepared.
URL:https://lstreams.com/eve/kingdom-power-and-glory-overcoming-the-enemy/
LOCATION:Living Streams Christian Fellowship\, 19852 Lagrange Road\, Mokena\, IL\, 60448\, United States
CATEGORIES:Women's
ATTACH;FMTTYPE=image/jpeg:https://lstreams.com/wp-content/uploads/2025/10/51W9TPapCkL._SL1350___60834.jpg
ORGANIZER;CN="Living Streams":MAILTO:Info@Lstreams.com
END:VEVENT
BEGIN:VEVENT
DTSTART;TZID=America/Chicago:20260613T080000
DTEND;TZID=America/Chicago:20260613T080000
DTSTAMP:20260423T151411
CREATED:20251006T123407Z
LAST-MODIFIED:20260214T125544Z
UID:10003317-1781337600-1781337600@lstreams.com
SUMMARY:Kingdom\, Power and Glory - The Return Of His Glory
DESCRIPTION:Chuck and Nancy Missler – Video Series \nScripture tells us we are to prepare ourselves for Christ’s soon return. \n\nWhat exactly does this mean?\nWhat’s at stake?\nWhat if we aren’t prepared?\n\nBeing ready\, fit\, and PREPARED will dramatically affect our ROLE\, our POSITION\, and our PLACE OF RESPONSIBILITY in the future millennial kingdom. \nIn this study\, Nancy & Chuck Missler share not only the Scriptural importance of WHY we need to be prepared\, but also WHAT WE NEED TO DO to be prepared.
URL:https://lstreams.com/eve/kingdom-power-and-glory-the-return-of-his-glory/
LOCATION:Living Streams Christian Fellowship\, 19852 Lagrange Road\, Mokena\, IL\, 60448\, United States
CATEGORIES:Women's
ATTACH;FMTTYPE=image/jpeg:https://lstreams.com/wp-content/uploads/2025/10/51W9TPapCkL._SL1350___60834.jpg
ORGANIZER;CN="Living Streams":MAILTO:Info@Lstreams.com
END:VEVENT
BEGIN:VEVENT
DTSTART;TZID=America/Chicago:20260627T080000
DTEND;TZID=America/Chicago:20260627T080000
DTSTAMP:20260423T151411
CREATED:20251006T123516Z
LAST-MODIFIED:20260419T094430Z
UID:10003318-1782547200-1782547200@lstreams.com
SUMMARY:Kingdom\, Power and Glory - Personally Reflecting His Glory
DESCRIPTION:Chuck and Nancy Missler – Video Series \nScripture tells us we are to prepare ourselves for Christ’s soon return. \n\nWhat exactly does this mean?\nWhat’s at stake?\nWhat if we aren’t prepared?\n\nBeing ready\, fit\, and PREPARED will dramatically affect our ROLE\, our POSITION\, and our PLACE OF RESPONSIBILITY in the future millennial kingdom. \nIn this study\, Nancy & Chuck Missler share not only the Scriptural importance of WHY we need to be prepared\, but also WHAT WE NEED TO DO to be prepared.
URL:https://lstreams.com/eve/kingdom-power-and-glory-personally-reflecting-his-glory/
LOCATION:Living Streams Christian Fellowship\, 19852 Lagrange Road\, Mokena\, IL\, 60448\, United States
CATEGORIES:Women's
ATTACH;FMTTYPE=image/jpeg:https://lstreams.com/wp-content/uploads/2025/10/51W9TPapCkL._SL1350___60834.jpg
ORGANIZER;CN="Living Streams":MAILTO:Info@Lstreams.com
END:VEVENT
END:VCALENDAR