BEGIN:VCALENDAR
VERSION:2.0
PRODID:-//Living Streams - ECPv6.15.20//NONSGML v1.0//EN
CALSCALE:GREGORIAN
METHOD:PUBLISH
X-WR-CALNAME:Living Streams
X-ORIGINAL-URL:https://lstreams.com
X-WR-CALDESC:Events for Living Streams
REFRESH-INTERVAL;VALUE=DURATION:PT1H
X-Robots-Tag:noindex
X-PUBLISHED-TTL:PT1H
BEGIN:VTIMEZONE
TZID:America/Chicago
BEGIN:DAYLIGHT
TZOFFSETFROM:-0600
TZOFFSETTO:-0500
TZNAME:CDT
DTSTART:20250309T080000
END:DAYLIGHT
BEGIN:STANDARD
TZOFFSETFROM:-0500
TZOFFSETTO:-0600
TZNAME:CST
DTSTART:20251102T070000
END:STANDARD
BEGIN:DAYLIGHT
TZOFFSETFROM:-0600
TZOFFSETTO:-0500
TZNAME:CDT
DTSTART:20260308T080000
END:DAYLIGHT
BEGIN:STANDARD
TZOFFSETFROM:-0500
TZOFFSETTO:-0600
TZNAME:CST
DTSTART:20261101T070000
END:STANDARD
BEGIN:DAYLIGHT
TZOFFSETFROM:-0600
TZOFFSETTO:-0500
TZNAME:CDT
DTSTART:20270314T080000
END:DAYLIGHT
BEGIN:STANDARD
TZOFFSETFROM:-0500
TZOFFSETTO:-0600
TZNAME:CST
DTSTART:20271107T070000
END:STANDARD
END:VTIMEZONE
BEGIN:VEVENT
DTSTART;TZID=America/Chicago:20260411T080000
DTEND;TZID=America/Chicago:20260411T080000
DTSTAMP:20260423T145958
CREATED:20251006T122946Z
LAST-MODIFIED:20251006T122946Z
UID:10003313-1775894400-1775894400@lstreams.com
SUMMARY:Kingdom\, Power and Glory - Strength In Weakness
DESCRIPTION:Chuck and Nancy Missler – Video Series \nScripture tells us we are to prepare ourselves for Christ’s soon return. \n\nWhat exactly does this mean?\nWhat’s at stake?\nWhat if we aren’t prepared?\n\nBeing ready\, fit\, and PREPARED will dramatically affect our ROLE\, our POSITION\, and our PLACE OF RESPONSIBILITY in the future millennial kingdom. \nIn this study\, Nancy & Chuck Missler share not only the Scriptural importance of WHY we need to be prepared\, but also WHAT WE NEED TO DO to be prepared.
URL:https://lstreams.com/eve/kingdom-power-and-glory-strength-in-weakness/
LOCATION:Living Streams Christian Fellowship\, 19852 Lagrange Road\, Mokena\, IL\, 60448\, United States
CATEGORIES:Women's
ATTACH;FMTTYPE=image/jpeg:https://lstreams.com/wp-content/uploads/2025/10/51W9TPapCkL._SL1350___60834.jpg
ORGANIZER;CN="Living Streams":MAILTO:Info@Lstreams.com
END:VEVENT
BEGIN:VEVENT
DTSTART;TZID=America/Chicago:20260328T080000
DTEND;TZID=America/Chicago:20260328T080000
DTSTAMP:20260423T145958
CREATED:20251006T122515Z
LAST-MODIFIED:20260419T094150Z
UID:10002977-1774684800-1774684800@lstreams.com
SUMMARY:Kingdom\, Power and Glory - God's Resurrection Power
DESCRIPTION:Chuck and Nancy Missler – Video Series \nScripture tells us we are to prepare ourselves for Christ’s soon return. \n\nWhat exactly does this mean?\nWhat’s at stake?\nWhat if we aren’t prepared?\n\nBeing ready\, fit\, and PREPARED will dramatically affect our ROLE\, our POSITION\, and our PLACE OF RESPONSIBILITY in the future millennial kingdom. \nIn this study\, Nancy & Chuck Missler share not only the Scriptural importance of WHY we need to be prepared\, but also WHAT WE NEED TO DO to be prepared.
URL:https://lstreams.com/eve/kingdom-power-and-glory-kingdom-events/
LOCATION:Living Streams Christian Fellowship\, 19852 Lagrange Road\, Mokena\, IL\, 60448\, United States
CATEGORIES:Women's
ATTACH;FMTTYPE=image/jpeg:https://lstreams.com/wp-content/uploads/2025/10/51W9TPapCkL._SL1350___60834.jpg
ORGANIZER;CN="Living Streams":MAILTO:Info@Lstreams.com
END:VEVENT
END:VCALENDAR